BEGIN:VCALENDAR
VERSION:2.0
PRODID:-//ChurchDev//Events//EN
CALSCALE:GREGORIAN
METHOD:PUBLISH
BEGIN:VEVENT
UID:2586-20151225@www.stjohnely.org
SUMMARY:Christmas Celebration
DTSTART;VALUE=DATE:20151225
DTEND;VALUE=DATE:20151226
DESCRIPTION:https://www.stjohnely.org/events/christmas-celebration/
URL:https://www.stjohnely.org/events/christmas-celebration/
DTSTAMP:20260426T015449Z
END:VEVENT
END:VCALENDAR
