BEGIN:VCALENDAR
VERSION:2.0
PRODID:-//ChurchDev//Events//EN
CALSCALE:GREGORIAN
METHOD:PUBLISH
BEGIN:VEVENT
UID:2587-20161124@www.stjohnely.org
SUMMARY:Thanksgiving Celebration
DTSTART;VALUE=DATE:20161124
DTEND;VALUE=DATE:20161125
DESCRIPTION:https://www.stjohnely.org/events/thanksgiving-celebration/
URL:https://www.stjohnely.org/events/thanksgiving-celebration/
DTSTAMP:20260426T015546Z
END:VEVENT
END:VCALENDAR
