BEGIN:VCALENDAR
VERSION:2.0
PRODID:-//ChurchDev//Events//EN
CALSCALE:GREGORIAN
METHOD:PUBLISH
BEGIN:VEVENT
UID:2588-20151213@www.stjohnely.org
SUMMARY:Early Service
DTSTART:20151213T144500Z
DTEND:20151213T154500Z
DESCRIPTION:https://www.stjohnely.org/events/early-service/
URL:https://www.stjohnely.org/events/early-service/
DTSTAMP:20260425T223946Z
END:VEVENT
END:VCALENDAR
