BEGIN:VCALENDAR
VERSION:2.0
PRODID:-//ChurchDev//Events//EN
CALSCALE:GREGORIAN
METHOD:PUBLISH
BEGIN:VEVENT
UID:2590-20151213@www.stjohnely.org
SUMMARY:Sunday School
DTSTART:20151213T154500Z
DTEND:20151213T164500Z
DESCRIPTION:https://www.stjohnely.org/events/sunday-school/
URL:https://www.stjohnely.org/events/sunday-school/
DTSTAMP:20260425T223947Z
END:VEVENT
END:VCALENDAR
