BEGIN:VCALENDAR
VERSION:2.0
PRODID:-//ChurchDev//Events//EN
CALSCALE:GREGORIAN
METHOD:PUBLISH
BEGIN:VEVENT
UID:2591-20151209@www.stjohnely.org
SUMMARY:Wednesday Night Service
DTSTART:20151210T000000Z
DTEND:20151210T010000Z
DESCRIPTION:https://www.stjohnely.org/events/wednesday-night-service/
URL:https://www.stjohnely.org/events/wednesday-night-service/
DTSTAMP:20260425T223945Z
END:VEVENT
END:VCALENDAR
