BEGIN:VCALENDAR
VERSION:2.0
PRODID:-//ChurchDev//Events//EN
CALSCALE:GREGORIAN
METHOD:PUBLISH
BEGIN:VEVENT
UID:2593-20151210@www.stjohnely.org
SUMMARY:FLY (Faith Leading Youth)
DTSTART:20151211T000000Z
DTEND:20151211T010000Z
DESCRIPTION:https://www.stjohnely.org/events/fly-faith-leading-youth/
URL:https://www.stjohnely.org/events/fly-faith-leading-youth/
DTSTAMP:20260425T223946Z
END:VEVENT
END:VCALENDAR
