BEGIN:VCALENDAR
VERSION:2.0
PRODID:-//ChurchDev//Events//EN
CALSCALE:GREGORIAN
METHOD:PUBLISH
BEGIN:VEVENT
UID:2594-20151219@www.stjohnely.org
SUMMARY:Elder Meeting
DTSTART:20151219T160000Z
DTEND:20151219T170000Z
DESCRIPTION:https://www.stjohnely.org/events/elder-meeting/
URL:https://www.stjohnely.org/events/elder-meeting/
DTSTAMP:20260425T223946Z
END:VEVENT
END:VCALENDAR
